BEGIN:VCALENDAR
VERSION:2.0
PRODID:-//The Guild of Metalsmiths - ECPv6.15.15//NONSGML v1.0//EN
CALSCALE:GREGORIAN
METHOD:PUBLISH
X-WR-CALNAME:The Guild of Metalsmiths
X-ORIGINAL-URL:https://www.metalsmith.org
X-WR-CALDESC:Events for The Guild of Metalsmiths
REFRESH-INTERVAL;VALUE=DURATION:PT1H
X-Robots-Tag:noindex
X-PUBLISHED-TTL:PT1H
BEGIN:VTIMEZONE
TZID:America/Chicago
BEGIN:DAYLIGHT
TZOFFSETFROM:-0600
TZOFFSETTO:-0500
TZNAME:CDT
DTSTART:20230312T080000
END:DAYLIGHT
BEGIN:STANDARD
TZOFFSETFROM:-0500
TZOFFSETTO:-0600
TZNAME:CST
DTSTART:20231105T070000
END:STANDARD
BEGIN:DAYLIGHT
TZOFFSETFROM:-0600
TZOFFSETTO:-0500
TZNAME:CDT
DTSTART:20240310T080000
END:DAYLIGHT
BEGIN:STANDARD
TZOFFSETFROM:-0500
TZOFFSETTO:-0600
TZNAME:CST
DTSTART:20241103T070000
END:STANDARD
BEGIN:DAYLIGHT
TZOFFSETFROM:-0600
TZOFFSETTO:-0500
TZNAME:CDT
DTSTART:20250309T080000
END:DAYLIGHT
BEGIN:STANDARD
TZOFFSETFROM:-0500
TZOFFSETTO:-0600
TZNAME:CST
DTSTART:20251102T070000
END:STANDARD
END:VTIMEZONE
BEGIN:VEVENT
DTSTART;TZID=America/Chicago:20241208T120000
DTEND;TZID=America/Chicago:20241208T170000
DTSTAMP:20260419T070617
CREATED:20241028T164129Z
LAST-MODIFIED:20241028T164508Z
UID:5866-1733659200-1733677200@www.metalsmith.org
SUMMARY:TGoM Membership Meeting December 2024
DESCRIPTION:Annual Meeting/Holiday Gathering is Sunday\, Dec. 8!\nTGoM’s annual holiday gathering is set for Sunday\, December 8 at the CSPS Hall in St. Paul\, MN Join Guild of Metalsmiths families at 383 Michigan St.\, St. Paul\, MN 55102\, at the corner of West 7th and  Western—map below. \nThe hall will open at noon. We usually share hors d’oeuvres as people arrive\, so bring your favorites if you wish. The annual business meeting is first on the agenda\, including awards\, elections\, and the normal business stuff starting at 1:00 pm and going on for an hour or so. \nThat leads into show and tell\, and possibly an impromptu mini-auction. By then\, we’ll all have worked up an appetite to sit down to our always delightful holiday potluck. Please bring a dish to pass. \nIf you’re a first-timer to this event\, just go upstairs at the front of the building when you get there. An elevator entrance is also located on the side just off the parking lot. Bring your family! \nAny questions about this meeting can be answered by contacting meeting champion Mike\nFrattalone at icemanfratt@aol.com. \nIf you’re interested in learning more about the CSPS\, go to their website\nhttps://www.sokolmn.org
URL:https://www.metalsmith.org/event/tgom-membership-meeting-december-2024/
LOCATION:CSPS Hall\, 383 Michigan St\, Saint Paul\, MN\, 55102\, United States
CATEGORIES:Meeting,Upcoming
ORGANIZER;CN="Mike Frattalone":MAILTO:icemanfratt@aol.com
END:VEVENT
END:VCALENDAR